Package: xcms Version: 4.9.0 Command: /Library/Frameworks/R.framework/Resources/bin/R CMD build --keep-empty-dirs --no-resave-data xcms StartedAt: 2025-11-21 19:09:43 -0500 (Fri, 21 Nov 2025) EndedAt: 2025-11-21 19:14:36 -0500 (Fri, 21 Nov 2025) EllapsedTime: 293.4 seconds RetCode: 0 Status: OK PackageFile: xcms_4.9.0.tar.gz PackageFileSize: 8.881 MiB