Package: xcms Version: 4.9.0 Command: /Library/Frameworks/R.framework/Resources/bin/R CMD INSTALL xcms StartedAt: 2025-11-21 15:43:34 -0500 (Fri, 21 Nov 2025) EndedAt: 2025-11-21 15:45:50 -0500 (Fri, 21 Nov 2025) EllapsedTime: 136.0 seconds RetCode: 0 Status: OK