Package: xcore Version: 1.13.0 Command: /home/biocbuild/bbs-3.22-bioc/R/bin/R CMD build --keep-empty-dirs --no-resave-data --md5 xcore StartedAt: 2025-10-19 20:45:22 -0400 (Sun, 19 Oct 2025) EndedAt: 2025-10-19 20:46:48 -0400 (Sun, 19 Oct 2025) EllapsedTime: 86.1 seconds RetCode: 0 Status: OK PackageFile: xcore_1.13.0.tar.gz PackageFileSize: 2.41 MiB