Package: xcore Version: 1.13.0 Command: /home/biocbuild/bbs-3.22-bioc/R/bin/R CMD INSTALL xcore StartedAt: 2025-10-19 15:21:19 -0400 (Sun, 19 Oct 2025) EndedAt: 2025-10-19 15:21:42 -0400 (Sun, 19 Oct 2025) EllapsedTime: 23.2 seconds RetCode: 0 Status: OK