| Back to --- experimental! --- GPU-enabled build/check report for BioC 3.23 Report updated every 6 hours |
This page was generated on 2025-11-21 13:45 -0500 (Fri, 21 Nov 2025).
| Hostname | OS | Arch (*) | R version | Installed pkgs |
|---|---|---|---|---|
| biocgpu | Linux (Ubuntu 24.04.2 LTS) | x86_64 | R Under development (unstable) (2025-11-17 r89032) -- "Unsuffered Consequences" | 276 |
| kakapo1 | Linux (Ubuntu 24.04.3 LTS) | x86_64 | R Under development (unstable) (2025-10-31 r88977) -- "Unsuffered Consequences" | 263 |
| Click on any hostname to see more info about the system (e.g. compilers) (*) as reported by 'uname -p', except on Windows and Mac OS X | ||||
|
To the developers/maintainers of the scviR package: - Use the following Renviron settings to reproduce errors and warnings. - If 'R CMD check' started to fail recently on the Linux builder(s) over a missing dependency, add the missing dependency to 'Suggests:' in your DESCRIPTION file. See Renviron.bioc for more information. |
| Package 3/3 | Hostname | OS / Arch | INSTALL | BUILD | CHECK | ||||||||
| scviR 1.11.0 (landing page) Vincent Carey
| biocgpu | Linux (Ubuntu 24.04.2 LTS) / x86_64 | OK | OK | OK | ||||||||
| kakapo1 | Linux (Ubuntu 24.04.3 LTS) / x86_64 | OK | OK | OK | |||||||||