Package: scviR Version: 1.11.0 Command: /home/biocbuild/bbs-3.23-bioc-gpu/R/bin/R CMD build --keep-empty-dirs --no-resave-data scviR StartedAt: 2025-11-24 11:01:23 -0500 (Mon, 24 Nov 2025) EndedAt: 2025-11-24 11:03:52 -0500 (Mon, 24 Nov 2025) EllapsedTime: 149.0 seconds RetCode: 0 Status: OK PackageFile: scviR_1.11.0.tar.gz PackageFileSize: 3.87 MiB