Package: scviR Version: 1.11.0 Command: /home/biocbuild/bbs-3.23-bioc-gpu/R/bin/R CMD INSTALL scviR StartedAt: 2025-11-24 10:45:33 -0500 (Mon, 24 Nov 2025) EndedAt: 2025-11-24 10:46:32 -0500 (Mon, 24 Nov 2025) EllapsedTime: 58.8 seconds RetCode: 0 Status: OK