| Back to Long Tests report for BioC 3.23 |
This page was generated on 2025-11-22 23:55 -0500 (Sat, 22 Nov 2025).
| QUICK STATS | OS / Arch | CHECK | |||||||
| nebbiolo1 | Linux (Ubuntu 24.04.3 LTS) / x86_64 |
| |||||||
| lconway | macOS 12.7.6 Monterey / x86_64 |
| |||||||
| Package | Maintainer | CHECK | |||||||
| 1/28 | APAlyzer 1.25.0 (landing page) | Ruijia Wang | ERROR | ||||||
| 2/28 | autonomics 1.19.0 (landing page) | Aditya Bhagwat | ERROR | ||||||
| 3/28 | beachmat 2.27.0 (landing page) | Aaron Lun | WARNINGS | ||||||
| 4/28 | BiocPkgTools 1.29.2 (landing page) | Sean Davis | OK | ||||||
| 5/28 | biodb 1.19.0 (landing page) | Pierrick Roger | WARNINGS | ||||||
| 6/28 | biodbChebi 1.17.0 (landing page) | Pierrick Roger | ERROR | ||||||
| 7/28 | cBioPortalData 2.23.2 (landing page) | Marcel Ramos | ERROR | ||||||
| 8/28 | ChromSCape 1.21.0 (landing page) | Pacome Prompsy | ERROR | ||||||
| 9/28 | clusterExperiment 2.31.0 (landing page) | Elizabeth Purdom | ERROR | ||||||
| 10/28 | CRISPRball 1.7.0 (landing page) | Jared Andrews | OK | ||||||
| 11/28 | crisprScore 1.15.2 (landing page) | Jean-Philippe Fortin | ERROR | ||||||
| 12/28 | CTexploreR 1.7.0 (landing page) | Axelle Loriot | OK | ||||||
| 13/28 | DelayedMatrixStats 1.33.0 (landing page) | Peter Hickey | OK | ||||||
| 14/28 | DOtools 1.1.0 (landing page) | Mariano Ruz Jurado | ERROR | ||||||
| 15/28 | DropletUtils 1.31.0 (landing page) | Jonathan Griffiths | OK | ||||||
| 16/28 | EpiMix 1.13.0 (landing page) | Yuanning Zheng | OK | ||||||
| 17/28 | extraChIPs 1.15.2 (landing page) | Stevie Pederson | OK | ||||||
| 18/28 | GenomicFeatures 1.63.1 (landing page) | H. Pagès | WARNINGS | ||||||
| 19/28 | ginmappeR 1.7.0 (landing page) | Fernando Sola | ERROR | ||||||
| 20/28 | HDF5Array 1.39.0 (landing page) | Hervé Pagès | OK | ||||||
| 21/28 | midasHLA 1.19.0 (landing page) | Maciej Migdał | ERROR | ||||||
| 22/28 | mosdef 1.7.0 (landing page) | Federico Marini | OK | ||||||
| 23/28 | MungeSumstats 1.19.1 (landing page) | Alan Murphy | ERROR | ||||||
| 24/28 | rhdf5 2.55.11 (landing page) | Hugo Gruson | OK | ||||||
| 25/28 | SimBu 1.13.0 (landing page) | Alexander Dietrich | ERROR | ||||||
| 26/28 | TENxIO 1.13.0 (landing page) | Marcel Ramos | OK | ||||||
| 27/28 | xcms 4.9.0 (landing page) | Steffen Neumann | ERROR | ||||||
| 28/28 | zellkonverter 1.21.0 (landing page) | Luke Zappia | ERROR | ||||||