Package: ggtree Version: 3.99.0 Maintainer: Guangchuang Yu MaintainerEmail: guangchuangyu at gmail.com git_url: https://git.bioconductor.org/packages/ggtree git_branch: devel git_last_commit: 58b3c7c git_last_commit_date: 2025-09-17 02:33:48 -0400 (Wed, 17 Sep 2025)