Package: EuPathDB Version: 1.0.1 Command: /home/biocbuild/bbs-3.22-bioc/R/bin/R CMD build --keep-empty-dirs --no-resave-data EuPathDB StartedAt: 2025-07-16 06:31:24 -0400 (Wed, 16 Jul 2025) EndedAt: 2025-07-16 06:32:18 -0400 (Wed, 16 Jul 2025) EllapsedTime: 54.0 seconds RetCode: 1 Status: ERROR PackageFile: None PackageFileSize: NA