Package: EuPathDB Version: 1.0.1 Command: /home/biocbuild/bbs-3.22-bioc/R/bin/R CMD INSTALL EuPathDB StartedAt: 2025-07-16 06:30:20 -0400 (Wed, 16 Jul 2025) EndedAt: 2025-07-16 06:30:56 -0400 (Wed, 16 Jul 2025) EllapsedTime: 36.3 seconds RetCode: 0 Status: OK