Package: HPO.db Version: 0.99.2 Command: /home/biocbuild/bbs-3.22-bioc/R/bin/R CMD INSTALL HPO.db StartedAt: 2025-10-08 05:55:11 -0400 (Wed, 08 Oct 2025) EndedAt: 2025-10-08 05:55:25 -0400 (Wed, 08 Oct 2025) EllapsedTime: 14.5 seconds RetCode: 1 Status: ERROR