Package: JASPAR2024 Version: 0.99.7 Command: /home/biocbuild/bbs-3.22-bioc/R/bin/R CMD INSTALL JASPAR2024 StartedAt: 2025-07-23 06:30:11 -0400 (Wed, 23 Jul 2025) EndedAt: 2025-07-23 06:30:21 -0400 (Wed, 23 Jul 2025) EllapsedTime: 10.5 seconds RetCode: 0 Status: OK