Package: alternativeSplicingEvents.hg19 Version: 1.1.0 Command: /home/biocbuild/bbs-3.22-bioc/R/bin/R CMD INSTALL alternativeSplicingEvents.hg19 StartedAt: 2025-07-16 06:30:10 -0400 (Wed, 16 Jul 2025) EndedAt: 2025-07-16 06:30:19 -0400 (Wed, 16 Jul 2025) EllapsedTime: 9.1 seconds RetCode: 0 Status: OK