Welcome to mirrors.dotsrc.org

All our mirrors of open source software are available via http, https, ftp and an onion service. More information about our mirrors including statistics and contact information is available on our mirror info pages.

For information about dotsrc.org and our other services please go to our website.

Index of /bioconductor/checkResults/devel/data-experiment-LATEST/

File Name  ↓ File Size  ↓ Date  ↓ 
--
-2025-10-23 19:41:49
-2025-10-23 19:41:49
-2025-10-23 19:41:49
-2025-10-23 19:41:49
-2025-10-23 19:41:49
-2025-10-23 19:41:49
-2025-10-23 19:41:49
-2025-10-23 19:41:49
-2025-10-23 19:41:49
-2025-10-23 19:41:49
-2025-10-23 19:41:49
-2025-10-23 19:41:49
-2025-10-23 19:41:49
-2025-10-23 19:41:49
-2025-10-23 19:41:49
-2025-10-23 19:41:49
-2025-10-23 19:41:49
-2025-10-23 19:41:49
-2025-10-23 19:41:49
-2025-10-23 19:41:49
-2025-10-23 19:41:49
-2025-10-23 19:41:49
-2025-10-23 19:41:49
-2025-10-23 19:41:49
-2025-10-23 19:41:49
-2025-10-23 19:41:49
-2025-10-23 19:41:49
-2025-10-23 19:41:49
-2025-10-23 19:41:49
-2025-10-23 19:41:49
-2025-10-23 19:41:49
-2025-10-23 19:41:49
-2025-10-23 19:41:49
-2025-10-23 19:41:49
-2025-10-23 19:41:49
-2025-10-23 19:41:49
-2025-10-23 19:41:49
-2025-10-23 19:41:49
-2025-10-23 19:41:49
-2025-10-23 19:41:49
-2025-10-23 19:41:49
-2025-10-23 19:41:49
-2025-10-23 19:41:49
-2025-10-23 19:41:49
-2025-10-23 19:41:49
-2025-10-23 19:41:49
-2025-10-23 19:41:49
-2025-10-23 19:41:49
-2025-10-23 19:41:49
-2025-10-23 19:41:49
-2025-10-23 19:41:49
-2025-10-23 19:41:49
-2025-10-23 19:41:49
-2025-10-23 19:41:49
-2025-10-23 19:41:49
-2025-10-23 19:41:49
-2025-10-23 19:41:50
-2025-10-23 19:41:50
-2025-10-23 19:41:50
-2025-10-23 19:41:50
-2025-10-23 19:41:50
-2025-10-23 19:41:50
-2025-10-23 19:41:50
-2025-10-23 19:41:50
-2025-10-23 19:41:50
-2025-10-23 19:41:50
-2025-10-23 19:41:50
-2025-10-23 19:41:50
-2025-10-23 19:41:50
-2025-10-23 19:41:50
-2025-10-23 19:41:50
-2025-10-23 19:41:50
-2025-10-23 19:41:50
-2025-10-23 19:41:50
-2025-10-23 19:41:50
-2025-10-23 19:41:50
-2025-10-23 19:41:50
-2025-10-23 19:41:50
-2025-10-23 19:41:50
-2025-10-23 19:41:50
-2025-10-23 19:41:50
-2025-10-23 19:41:50
-2025-10-23 19:41:50
-2025-10-23 19:41:50
-2025-10-23 19:41:50
-2025-10-23 19:41:50
-2025-10-23 19:41:50
-2025-10-23 19:41:50
-2025-10-23 19:41:50
-2025-10-23 19:41:50
-2025-10-23 19:41:50
-2025-10-23 19:41:50
-2025-10-23 19:41:50
-2025-10-23 19:41:50
-2025-10-23 19:41:50
-2025-10-23 19:41:50
-2025-10-23 19:41:50
-2025-10-23 19:41:50
-2025-10-23 19:41:50
-2025-10-23 19:41:50
-2025-10-23 19:41:50
-2025-10-23 19:41:50
-2025-10-23 19:41:50
-2025-10-23 19:41:50
-2025-10-23 19:41:50
-2025-10-23 19:41:50
-2025-10-23 19:41:50
-2025-10-23 19:41:50
-2025-10-23 19:41:50
-2025-10-23 19:41:50
-2025-10-23 19:41:50
-2025-10-23 19:41:50
-2025-10-23 19:41:50
-2025-10-23 19:41:50
-2025-10-23 19:41:50
-2025-10-23 19:41:50
-2025-10-23 19:41:50
-2025-10-23 19:41:50
-2025-10-23 19:41:50
-2025-10-23 19:41:50
-2025-10-23 19:41:50
-2025-10-23 19:41:50
-2025-10-23 19:41:50
-2025-10-23 19:41:50
-2025-10-23 19:41:50
-2025-10-23 19:41:50
-2025-10-23 19:41:50
-2025-10-23 19:41:50
-2025-10-23 19:41:50
-2025-10-23 19:41:50
-2025-10-23 19:41:50
-2025-10-23 19:41:50
-2025-10-23 19:41:50
-2025-10-23 19:41:50
-2025-10-23 19:41:50
-2025-10-23 19:41:50
-2025-10-23 19:41:50
-2025-10-23 19:41:50
-2025-10-23 19:41:50
-2025-10-23 19:41:50
-2025-10-23 19:41:50
-2025-10-23 19:41:50
-2025-10-23 19:41:50
-2025-10-23 19:41:50
-2025-10-23 19:41:50
-2025-10-23 19:41:50
-2025-10-23 19:41:50
-2025-10-23 19:41:50
-2025-10-23 19:41:50
-2025-10-23 19:41:50
-2025-10-23 19:41:50
-2025-10-23 19:41:50
-2025-10-23 19:41:50
-2025-10-23 19:41:50
-2025-10-23 19:41:50
-2025-10-23 19:41:50
-2025-10-23 19:41:50
-2025-10-23 19:41:50
-2025-10-23 19:41:50
-2025-10-23 19:41:50
-2025-10-23 19:41:50
-2025-10-23 19:41:50
-2025-10-23 19:41:50
-2025-10-23 19:41:50
-2025-10-23 19:41:50
-2025-10-23 19:41:50
-2025-10-23 19:41:50
-2025-10-23 19:41:50
-2025-10-23 19:41:50
-2025-10-23 19:41:50
-2025-10-23 19:41:50
-2025-10-23 19:41:50
-2025-10-23 19:41:50
-2025-10-23 19:41:50
-2025-10-23 19:41:50
-2025-10-23 19:41:50
-2025-10-23 19:41:50
-2025-10-23 19:41:50
-2025-10-23 19:41:50
-2025-10-23 19:41:50
-2025-10-23 19:41:50
-2025-10-23 19:41:50
-2025-10-23 19:41:50
-2025-10-23 19:41:50
-2025-10-23 19:41:50
-2025-10-23 19:41:50
-2025-10-23 19:41:50
-2025-10-23 19:41:50
-2025-10-23 19:41:50
-2025-10-23 19:41:50
-2025-10-23 19:41:50
-2025-10-23 19:41:50
-2025-10-23 19:41:50
-2025-10-23 19:41:50
-2025-10-23 19:41:50
-2025-10-23 19:41:50
-2025-10-23 19:41:50
-2025-10-23 19:41:50
-2025-10-23 19:41:50
-2025-10-23 19:41:50
-2025-10-23 19:41:50
-2025-10-23 19:41:50
-2025-10-23 19:41:50
-2025-10-23 19:41:50
-2025-10-23 19:41:50
-2025-10-23 19:41:50
-2025-10-23 19:41:50
-2025-10-23 19:41:50
-2025-10-23 19:41:50
-2025-10-23 19:41:50
-2025-10-23 19:41:50
-2025-10-23 19:41:50
-2025-10-23 19:41:50
-2025-10-23 19:41:50
-2025-10-23 19:41:50
-2025-10-23 19:41:50
-2025-10-23 19:41:50
-2025-10-23 19:41:50
-2025-10-23 19:41:50
-2025-10-23 19:41:50
-2025-10-23 19:41:50
-2025-10-23 19:41:50
-2025-10-23 19:41:50
-2025-10-23 19:41:50
-2025-10-23 19:41:50
-2025-10-23 19:41:50
-2025-10-23 19:41:50
-2025-10-23 19:41:50
-2025-10-23 19:41:50
-2025-10-23 19:41:50
-2025-10-23 19:41:49
-2025-10-23 19:41:49
-2025-10-23 19:41:49
-2025-10-23 19:41:49
-2025-10-23 19:41:49
-2025-10-23 19:41:49
-2025-10-23 19:41:49
-2025-10-23 19:41:49
-2025-04-08 19:35:03
-2025-10-23 19:41:49
-2025-10-23 19:41:49
-2025-10-23 19:41:49
-2025-10-23 19:41:49
-2025-10-23 19:41:49
-2025-10-23 19:41:49
-2025-10-23 19:41:49
-2025-10-23 19:41:49
-2025-10-23 19:41:49
-2025-10-23 19:41:49
-2025-10-23 19:41:49
-2025-10-23 19:41:49
-2025-10-23 19:41:49
-2025-10-23 19:41:49
-2025-10-23 19:41:49
-2025-10-23 19:41:49
-2025-10-23 19:41:49
-2025-10-23 19:41:49
-2025-10-23 19:41:49
-2025-10-23 19:41:49
-2025-10-23 19:41:49
-2025-10-23 19:41:49
-2025-10-23 19:41:49
-2025-10-23 19:41:49
-2025-10-23 19:41:49
-2025-10-23 19:41:49
-2025-10-23 19:41:49
-2025-10-23 19:41:49
-2025-10-23 19:41:49
-2025-10-23 19:41:49
-2025-10-23 19:41:49
-2025-10-23 19:41:49
-2025-10-23 19:41:49
-2025-10-23 19:41:49
-2025-10-23 19:41:49
-2025-10-23 19:41:49
-2025-10-23 19:41:49
-2025-10-23 19:41:49
-2025-10-23 19:41:49
-2025-10-23 19:41:49
-2025-10-23 19:41:49
-2025-10-23 19:41:49
-2025-10-23 19:41:49
-2025-10-23 19:41:49
-2025-10-23 19:41:49
-2025-10-23 19:41:49
-2025-10-23 19:41:49
-2025-10-23 19:41:49
-2025-10-23 19:41:49
-2025-10-23 19:41:49
-2025-10-23 19:41:49
-2025-10-23 19:41:49
-2025-10-23 19:41:50
-2025-10-23 19:41:50
-2025-10-23 19:41:50
-2025-10-23 19:41:50
-2025-10-23 19:41:50
-2025-10-23 19:41:50
-2025-10-23 19:41:50
-2025-10-23 19:41:50
-2025-10-23 19:41:50
-2025-10-23 19:41:50
-2025-10-23 19:41:50
-2025-10-23 19:41:50
-2025-10-23 19:41:50
-2025-10-23 19:41:50
-2025-10-23 19:41:50
-2025-10-23 19:41:50
-2025-10-23 19:41:50
-2025-10-23 19:41:50
-2025-10-23 19:41:50
-2025-10-23 19:41:50
-2025-10-23 19:41:50
-2025-10-23 19:41:50
-2025-10-23 19:41:50
-2025-10-23 19:41:50
-2025-10-23 19:41:50
-2025-10-23 19:41:50
-2025-10-23 19:41:50
-2025-10-23 19:41:50
-2025-10-23 19:41:50
-2025-10-23 19:41:50
-2025-10-23 19:41:50
-2025-10-23 19:41:50
-2025-10-23 19:41:50
-2025-10-23 19:41:50
-2025-10-23 19:41:50
-2025-10-23 19:41:50
-2025-10-23 19:41:50
-2025-10-23 19:41:50
-2025-10-23 19:41:50
-2025-10-23 19:41:50
-2025-10-23 19:41:50
-2025-10-23 19:41:50
-2025-10-23 19:41:50
-2025-10-23 19:41:50
-2025-10-23 19:41:50
-2025-10-23 19:41:50
-2025-10-23 19:41:50
-2025-10-23 19:41:50
-2025-10-23 19:41:50
-2025-10-23 19:41:50
-2025-10-23 19:41:50
-2025-10-23 19:41:50
-2025-10-23 19:41:50
-2025-10-23 19:41:50
-2025-10-23 19:41:50
-2025-10-23 19:41:50
-2025-10-23 19:41:50
-2025-10-23 19:41:50
-2025-10-23 19:41:50
-2025-10-23 19:41:50
-2025-10-23 19:41:50
-2025-10-23 19:41:50
-2025-10-23 19:41:50
-2025-10-23 19:41:50
-2025-10-23 19:41:50
-2025-10-23 19:41:50
-2025-10-23 19:41:50
-2025-10-23 19:41:50
-2025-10-23 19:41:50
-2025-10-23 19:41:50
-2025-10-23 19:41:50
-2025-10-23 19:41:50
-2025-10-23 19:41:50
-2025-10-23 19:41:50
-2025-10-23 19:41:50
-2025-10-23 19:41:50
-2025-10-23 19:41:50
-2025-10-23 19:41:50
-2025-10-23 19:41:50
-2025-10-23 19:41:50
-2025-10-23 19:41:50
-2025-10-23 19:41:50
-2025-10-23 19:41:50
-2025-10-23 19:41:50
-2025-10-23 19:41:50
-2025-10-23 19:41:50
-2025-04-08 19:35:04
-2025-10-23 19:41:50
-2025-10-23 19:41:50
-2025-10-23 19:41:50
-2025-10-23 19:41:50
-2025-10-23 19:41:50
-2025-10-23 19:41:50
-2025-10-23 19:41:50
-2025-10-23 19:41:50
-2025-10-23 19:41:50
-2025-10-23 19:41:50
-2025-10-23 19:41:50
-2025-10-23 19:41:50
-2025-10-23 19:41:50
-2025-10-23 19:41:50
-2025-10-23 19:41:50
-2025-10-23 19:41:50
-2025-10-23 19:41:50
-2025-10-23 19:41:50
-2025-10-23 19:41:50
-2025-10-23 19:41:50
-2025-10-23 19:41:50
-2025-10-23 19:41:50
-2025-10-23 19:41:50
-2025-10-23 19:41:50
-2025-10-23 19:41:50
-2025-10-23 19:41:50
-2025-10-23 19:41:50
-2025-10-23 19:41:50
-2025-10-23 19:41:50
-2025-10-23 19:41:50
-2025-10-23 19:41:50
-2025-10-23 19:41:50
-2025-10-23 19:41:50
-2025-10-23 19:41:50
-2025-10-23 19:41:50
-2025-10-23 19:41:50
-2025-10-23 19:41:50
-2025-10-23 19:41:50
-2025-10-23 19:41:50
-2025-10-23 19:41:50
-2025-04-08 19:35:04
-2025-10-23 19:41:50
-2025-10-23 19:41:50
-2025-10-23 19:41:50
-2025-10-23 19:41:50
-2025-10-23 19:41:50
-2025-10-23 19:41:50
-2025-10-23 19:41:50
-2025-10-23 19:41:50
-2025-10-23 19:41:50
-2025-10-23 19:41:50
-2025-10-23 19:41:50
-2025-10-23 19:41:50
-2025-10-23 19:41:50
-2025-10-23 19:41:51
-2025-10-23 19:41:51
-2025-10-23 19:41:51
-2025-10-23 19:41:51
-2025-10-23 19:41:51
-2025-10-23 19:41:51
7.1 KiB2025-10-23 19:41:49
7.1 KiB2025-10-23 19:41:49
7.0 KiB2025-10-23 19:41:49
47.5 KiB2025-10-23 19:41:49
2.6 KiB2025-10-23 19:41:49
31.9 KiB2025-10-23 19:41:49
3.3 KiB2025-10-23 19:41:49
603.2 KiB2025-10-23 19:41:51
46.8 KiB2025-10-23 19:41:49
7.4 KiB2025-10-23 19:41:49
536.2 KiB2025-10-23 19:41:49
11.9 KiB2025-10-23 19:41:49
6.0 KiB2025-10-23 19:41:49
1.1 MiB2025-10-23 19:41:53
0 B2025-10-23 19:41:49