Package: AmpAffyExample Version: 1.49.0 Command: /home/biocbuild/bbs-3.22-bioc/R/bin/R CMD check --install=check:AmpAffyExample.install-out.txt --library=/home/biocbuild/bbs-3.22-bioc/R/site-library --timings AmpAffyExample_1.49.0.tar.gz StartedAt: 2025-10-28 12:00:48 -0400 (Tue, 28 Oct 2025) EndedAt: 2025-10-28 12:01:35 -0400 (Tue, 28 Oct 2025) EllapsedTime: 47.0 seconds RetCode: 0 Status: WARNINGS CheckDir: AmpAffyExample.Rcheck Warnings: 1