Package: BioPlex Version: 1.15.0 Command: /home/biocbuild/bbs-3.22-bioc/R/bin/R CMD build --keep-empty-dirs --no-resave-data BioPlex StartedAt: 2025-07-10 11:08:28 -0400 (Thu, 10 Jul 2025) EndedAt: 2025-07-10 11:11:24 -0400 (Thu, 10 Jul 2025) EllapsedTime: 176.0 seconds RetCode: 0 Status: OK PackageFile: BioPlex_1.15.0.tar.gz PackageFileSize: 928.2 KiB