Package: CCl4 Version: 1.47.0 Command: /home/biocbuild/bbs-3.22-bioc/R/bin/R CMD build --keep-empty-dirs --no-resave-data CCl4 StartedAt: 2025-07-10 11:09:20 -0400 (Thu, 10 Jul 2025) EndedAt: 2025-07-10 11:10:21 -0400 (Thu, 10 Jul 2025) EllapsedTime: 60.7 seconds RetCode: 0 Status: OK PackageFile: CCl4_1.47.0.tar.gz PackageFileSize: 110.3 MiB