Package: ChIPexoQualExample Version: 1.33.0 Command: /home/biocbuild/bbs-3.22-bioc/R/bin/R CMD build --keep-empty-dirs --no-resave-data ChIPexoQualExample StartedAt: 2025-07-10 11:10:21 -0400 (Thu, 10 Jul 2025) EndedAt: 2025-07-10 11:10:35 -0400 (Thu, 10 Jul 2025) EllapsedTime: 13.6 seconds RetCode: 0 Status: OK PackageFile: ChIPexoQualExample_1.33.0.tar.gz PackageFileSize: 152.3 MiB