Package: CluMSIDdata Version: 1.25.0 Command: /home/biocbuild/bbs-3.22-bioc/R/bin/R CMD build --keep-empty-dirs --no-resave-data CluMSIDdata StartedAt: 2025-07-24 11:11:02 -0400 (Thu, 24 Jul 2025) EndedAt: 2025-07-24 11:12:10 -0400 (Thu, 24 Jul 2025) EllapsedTime: 67.8 seconds RetCode: 0 Status: OK PackageFile: CluMSIDdata_1.25.0.tar.gz PackageFileSize: 47.27 MiB