Package: CluMSIDdata Version: 1.25.0 Command: /home/biocbuild/bbs-3.22-bioc/R/bin/R CMD INSTALL CluMSIDdata StartedAt: 2025-07-24 10:55:12 -0400 (Thu, 24 Jul 2025) EndedAt: 2025-07-24 10:55:14 -0400 (Thu, 24 Jul 2025) EllapsedTime: 2.0 seconds RetCode: 0 Status: OK