Package: FANTOM3and4CAGE Version: 1.45.0 Command: /home/biocbuild/bbs-3.22-bioc/R/bin/R CMD build --keep-empty-dirs --no-resave-data FANTOM3and4CAGE StartedAt: 2025-10-02 11:16:25 -0400 (Thu, 02 Oct 2025) EndedAt: 2025-10-02 11:16:41 -0400 (Thu, 02 Oct 2025) EllapsedTime: 15.9 seconds RetCode: 0 Status: OK PackageFile: FANTOM3and4CAGE_1.45.0.tar.gz PackageFileSize: 34.73 MiB