Package: FIs Version: 1.37.0 Command: /home/biocbuild/bbs-3.22-bioc/R/bin/R CMD build --keep-empty-dirs --no-resave-data FIs StartedAt: 2025-07-10 11:17:56 -0400 (Thu, 10 Jul 2025) EndedAt: 2025-07-10 11:17:57 -0400 (Thu, 10 Jul 2025) EllapsedTime: 1.3 seconds RetCode: 0 Status: OK PackageFile: FIs_1.37.0.tar.gz PackageFileSize: 622.8 KiB