Package: Fletcher2013b Version: 1.47.0 Command: /home/biocbuild/bbs-3.23-bioc/R/bin/R CMD INSTALL Fletcher2013b StartedAt: 2025-11-20 11:04:02 -0500 (Thu, 20 Nov 2025) EndedAt: 2025-11-20 11:04:29 -0500 (Thu, 20 Nov 2025) EllapsedTime: 27.5 seconds RetCode: 0 Status: OK