Package: GSE62944 Version: 1.37.0 Command: /home/biocbuild/bbs-3.22-bioc/R/bin/R CMD INSTALL GSE62944 StartedAt: 2025-10-23 11:01:05 -0400 (Thu, 23 Oct 2025) EndedAt: 2025-10-23 11:01:22 -0400 (Thu, 23 Oct 2025) EllapsedTime: 17.0 seconds RetCode: 0 Status: OK