Package: HD2013SGI Version: 1.49.0 Command: /home/biocbuild/bbs-3.22-bioc/R/bin/R CMD INSTALL HD2013SGI StartedAt: 2025-07-22 10:57:38 -0400 (Tue, 22 Jul 2025) EndedAt: 2025-07-22 10:57:54 -0400 (Tue, 22 Jul 2025) EllapsedTime: 16.1 seconds RetCode: 0 Status: OK