Package: HDCytoData Version: 1.29.0 Command: /home/biocbuild/bbs-3.22-bioc/R/bin/R CMD INSTALL HDCytoData StartedAt: 2025-10-02 11:04:57 -0400 (Thu, 02 Oct 2025) EndedAt: 2025-10-02 11:05:24 -0400 (Thu, 02 Oct 2025) EllapsedTime: 27.6 seconds RetCode: 0 Status: OK