Package: HMP2Data Version: 1.23.0 Command: /home/biocbuild/bbs-3.22-bioc/R/bin/R CMD INSTALL HMP2Data StartedAt: 2025-07-17 11:00:18 -0400 (Thu, 17 Jul 2025) EndedAt: 2025-07-17 11:00:55 -0400 (Thu, 17 Jul 2025) EllapsedTime: 36.8 seconds RetCode: 0 Status: OK