Package: HSMMSingleCell Version: 1.31.0 Command: /home/biocbuild/bbs-3.23-bioc/R/bin/R CMD INSTALL HSMMSingleCell StartedAt: 2025-11-13 11:04:31 -0500 (Thu, 13 Nov 2025) EndedAt: 2025-11-13 11:04:33 -0500 (Thu, 13 Nov 2025) EllapsedTime: 2.0 seconds RetCode: 0 Status: OK