Package: HarmonizedTCGAData Version: 1.31.0 Command: /home/biocbuild/bbs-3.22-bioc/R/bin/R CMD build --keep-empty-dirs --no-resave-data HarmonizedTCGAData StartedAt: 2025-07-17 11:21:22 -0400 (Thu, 17 Jul 2025) EndedAt: 2025-07-17 11:21:57 -0400 (Thu, 17 Jul 2025) EllapsedTime: 34.7 seconds RetCode: 0 Status: OK PackageFile: HarmonizedTCGAData_1.31.0.tar.gz PackageFileSize: 719.3 KiB