Package: HelloRangesData Version: 1.35.0 Maintainer: Michael Lawrence MaintainerEmail: lawremi at gmail.com git_url: https://git.bioconductor.org/packages/HelloRangesData git_branch: devel git_last_commit: 3f964fb git_last_commit_date: 2025-07-15 19:48:57 -0400 (Tue, 15 Jul 2025)