Package: HiBED Version: 1.9.0 Command: /home/biocbuild/bbs-3.23-bioc/R/bin/R CMD build --keep-empty-dirs --no-resave-data HiBED StartedAt: 2025-11-20 11:24:32 -0500 (Thu, 20 Nov 2025) EndedAt: 2025-11-20 11:25:43 -0500 (Thu, 20 Nov 2025) EllapsedTime: 71.3 seconds RetCode: 0 Status: OK PackageFile: HiBED_1.9.0.tar.gz PackageFileSize: 40.94 KiB