Package: HighlyReplicatedRNASeq Version: 1.21.0 Command: /home/biocbuild/bbs-3.22-bioc/R/bin/R CMD INSTALL HighlyReplicatedRNASeq StartedAt: 2025-07-10 11:00:08 -0400 (Thu, 10 Jul 2025) EndedAt: 2025-07-10 11:00:35 -0400 (Thu, 10 Jul 2025) EllapsedTime: 27.5 seconds RetCode: 0 Status: OK