Package: Iyer517 Version: 1.51.0 Command: /home/biocbuild/bbs-3.22-bioc/R/bin/R CMD build --keep-empty-dirs --no-resave-data Iyer517 StartedAt: 2025-10-02 11:25:17 -0400 (Thu, 02 Oct 2025) EndedAt: 2025-10-02 11:25:24 -0400 (Thu, 02 Oct 2025) EllapsedTime: 7.0 seconds RetCode: 0 Status: OK PackageFile: Iyer517_1.51.0.tar.gz PackageFileSize: 407.9 KiB