Package: KOdata Version: 1.35.0 Command: /home/biocbuild/bbs-3.22-bioc/R/bin/R CMD INSTALL KOdata StartedAt: 2025-10-14 10:55:19 -0400 (Tue, 14 Oct 2025) EndedAt: 2025-10-14 10:55:37 -0400 (Tue, 14 Oct 2025) EllapsedTime: 17.9 seconds RetCode: 0 Status: OK