Package: LegATo Version: 1.3.0 Command: /home/biocbuild/bbs-3.22-bioc/R/bin/R CMD build --keep-empty-dirs --no-resave-data LegATo StartedAt: 2025-07-10 11:27:15 -0400 (Thu, 10 Jul 2025) EndedAt: 2025-07-10 11:28:42 -0400 (Thu, 10 Jul 2025) EllapsedTime: 86.6 seconds RetCode: 0 Status: OK PackageFile: LegATo_1.3.0.tar.gz PackageFileSize: 1.236 MiB