Package: LegATo Version: 1.3.0 Command: /home/biocbuild/bbs-3.22-bioc/R/bin/R CMD INSTALL LegATo StartedAt: 2025-07-10 11:04:55 -0400 (Thu, 10 Jul 2025) EndedAt: 2025-07-10 11:05:18 -0400 (Thu, 10 Jul 2025) EllapsedTime: 23.5 seconds RetCode: 0 Status: OK