Package: LungCancerLines Version: 0.47.0 Command: /home/biocbuild/bbs-3.22-bioc/R/bin/R CMD INSTALL LungCancerLines StartedAt: 2025-07-17 11:00:28 -0400 (Thu, 17 Jul 2025) EndedAt: 2025-07-17 11:00:38 -0400 (Thu, 17 Jul 2025) EllapsedTime: 10.0 seconds RetCode: 0 Status: OK