Package: MouseAgingData Version: 1.5.0 Command: /home/biocbuild/bbs-3.22-bioc/R/bin/R CMD INSTALL MouseAgingData StartedAt: 2025-07-10 10:58:15 -0400 (Thu, 10 Jul 2025) EndedAt: 2025-07-10 10:58:38 -0400 (Thu, 10 Jul 2025) EllapsedTime: 22.3 seconds RetCode: 0 Status: OK