Package: NanoporeRNASeq Version: 1.19.0 Command: /home/biocbuild/bbs-3.22-bioc/R/bin/R CMD INSTALL NanoporeRNASeq StartedAt: 2025-10-16 10:57:04 -0400 (Thu, 16 Oct 2025) EndedAt: 2025-10-16 10:57:13 -0400 (Thu, 16 Oct 2025) EllapsedTime: 8.7 seconds RetCode: 0 Status: OK