Package: Neve2006 Version: 0.49.0 Command: /home/biocbuild/bbs-3.23-bioc/R/bin/R CMD INSTALL Neve2006 StartedAt: 2025-11-13 10:57:34 -0500 (Thu, 13 Nov 2025) EndedAt: 2025-11-13 10:57:51 -0500 (Thu, 13 Nov 2025) EllapsedTime: 17.5 seconds RetCode: 0 Status: OK