Package: Neve2006 Version: 0.47.0 Command: /home/biocbuild/bbs-3.22-bioc/R/bin/R CMD build --keep-empty-dirs --no-resave-data Neve2006 StartedAt: 2025-07-17 11:33:08 -0400 (Thu, 17 Jul 2025) EndedAt: 2025-07-17 11:33:38 -0400 (Thu, 17 Jul 2025) EllapsedTime: 29.9 seconds RetCode: 0 Status: OK PackageFile: Neve2006_0.47.0.tar.gz PackageFileSize: 67.92 MiB