Package: Neve2006 Version: 0.47.0 Command: /home/biocbuild/bbs-3.22-bioc/R/bin/R CMD INSTALL Neve2006 StartedAt: 2025-07-17 10:57:25 -0400 (Thu, 17 Jul 2025) EndedAt: 2025-07-17 10:57:41 -0400 (Thu, 17 Jul 2025) EllapsedTime: 15.9 seconds RetCode: 0 Status: OK