Package: NxtIRFdata Version: 1.15.0 Command: /home/biocbuild/bbs-3.22-bioc/R/bin/R CMD build --keep-empty-dirs --no-resave-data NxtIRFdata StartedAt: 2025-10-02 11:33:40 -0400 (Thu, 02 Oct 2025) EndedAt: 2025-10-02 11:34:04 -0400 (Thu, 02 Oct 2025) EllapsedTime: 23.1 seconds RetCode: 0 Status: OK PackageFile: NxtIRFdata_1.15.0.tar.gz PackageFileSize: 317.9 KiB