Package: OMICsPCAdata Version: 1.27.0 Command: /home/biocbuild/bbs-3.22-bioc/R/bin/R CMD build --keep-empty-dirs --no-resave-data OMICsPCAdata StartedAt: 2025-10-09 11:33:46 -0400 (Thu, 09 Oct 2025) EndedAt: 2025-10-09 11:34:49 -0400 (Thu, 09 Oct 2025) EllapsedTime: 63.3 seconds RetCode: 0 Status: OK PackageFile: OMICsPCAdata_1.27.0.tar.gz PackageFileSize: 42.44 MiB