Package: OMICsPCAdata Version: 1.27.0 Command: /home/biocbuild/bbs-3.22-bioc/R/bin/R CMD INSTALL OMICsPCAdata StartedAt: 2025-10-09 11:00:27 -0400 (Thu, 09 Oct 2025) EndedAt: 2025-10-09 11:01:08 -0400 (Thu, 09 Oct 2025) EllapsedTime: 41.7 seconds RetCode: 0 Status: OK