Package: ObMiTi Version: 1.17.0 Command: /home/biocbuild/bbs-3.22-bioc/R/bin/R CMD INSTALL ObMiTi StartedAt: 2025-07-10 10:58:22 -0400 (Thu, 10 Jul 2025) EndedAt: 2025-07-10 10:58:53 -0400 (Thu, 10 Jul 2025) EllapsedTime: 30.8 seconds RetCode: 0 Status: OK