Package: PWMEnrich.Mmusculus.background Version: 4.43.0 Command: /home/biocbuild/bbs-3.22-bioc/R/bin/R CMD build --keep-empty-dirs --no-resave-data PWMEnrich.Mmusculus.background StartedAt: 2025-10-02 11:36:40 -0400 (Thu, 02 Oct 2025) EndedAt: 2025-10-02 11:36:42 -0400 (Thu, 02 Oct 2025) EllapsedTime: 2.3 seconds RetCode: 0 Status: OK PackageFile: PWMEnrich.Mmusculus.background_4.43.0.tar.gz PackageFileSize: 10.34 MiB