Package: PhyloProfileData Version: 1.23.3 Command: /home/biocbuild/bbs-3.22-bioc/R/bin/R CMD build --keep-empty-dirs --no-resave-data PhyloProfileData StartedAt: 2025-07-22 11:35:56 -0400 (Tue, 22 Jul 2025) EndedAt: 2025-07-22 11:36:30 -0400 (Tue, 22 Jul 2025) EllapsedTime: 33.8 seconds RetCode: 0 Status: OK PackageFile: PhyloProfileData_1.23.3.tar.gz PackageFileSize: 228 KiB