Package: PhyloProfileData Version: 1.23.3 Command: /home/biocbuild/bbs-3.22-bioc/R/bin/R CMD INSTALL PhyloProfileData StartedAt: 2025-07-24 10:57:42 -0400 (Thu, 24 Jul 2025) EndedAt: 2025-07-24 10:57:56 -0400 (Thu, 24 Jul 2025) EllapsedTime: 13.7 seconds RetCode: 0 Status: OK